BEGIN:VCALENDAR
VERSION:2.0
PRODID:-//Cornerstone Lutheran Church - ECPv6.15.17.1//NONSGML v1.0//EN
CALSCALE:GREGORIAN
METHOD:PUBLISH
X-WR-CALNAME:Cornerstone Lutheran Church
X-ORIGINAL-URL:https://www.cornerstoneargyle.com
X-WR-CALDESC:Events for Cornerstone Lutheran Church
REFRESH-INTERVAL;VALUE=DURATION:PT1H
X-Robots-Tag:noindex
X-PUBLISHED-TTL:PT1H
BEGIN:VTIMEZONE
TZID:America/Chicago
BEGIN:DAYLIGHT
TZOFFSETFROM:-0600
TZOFFSETTO:-0500
TZNAME:CDT
DTSTART:20250309T080000
END:DAYLIGHT
BEGIN:STANDARD
TZOFFSETFROM:-0500
TZOFFSETTO:-0600
TZNAME:CST
DTSTART:20251102T070000
END:STANDARD
BEGIN:DAYLIGHT
TZOFFSETFROM:-0600
TZOFFSETTO:-0500
TZNAME:CDT
DTSTART:20260308T080000
END:DAYLIGHT
BEGIN:STANDARD
TZOFFSETFROM:-0500
TZOFFSETTO:-0600
TZNAME:CST
DTSTART:20261101T070000
END:STANDARD
BEGIN:DAYLIGHT
TZOFFSETFROM:-0600
TZOFFSETTO:-0500
TZNAME:CDT
DTSTART:20270314T080000
END:DAYLIGHT
BEGIN:STANDARD
TZOFFSETFROM:-0500
TZOFFSETTO:-0600
TZNAME:CST
DTSTART:20271107T070000
END:STANDARD
END:VTIMEZONE
BEGIN:VEVENT
DTSTART;TZID=America/Chicago:20260318T180000
DTEND;TZID=America/Chicago:20260318T190000
DTSTAMP:20260420T010158
CREATED:20260222T134142Z
LAST-MODIFIED:20260222T134142Z
UID:1936-1773856800-1773860400@www.cornerstoneargyle.com
SUMMARY:Lenten Service
DESCRIPTION:6:00 pm services throughout Lent
URL:https://www.cornerstoneargyle.com/event/lenten-service-4/
END:VEVENT
BEGIN:VEVENT
DTSTART;TZID=America/Chicago:20260325T180000
DTEND;TZID=America/Chicago:20260325T190000
DTSTAMP:20260420T010158
CREATED:20260222T134225Z
LAST-MODIFIED:20260222T134225Z
UID:1938-1774461600-1774465200@www.cornerstoneargyle.com
SUMMARY:Lenten Service
DESCRIPTION:6:00 pm services throughout Lent
URL:https://www.cornerstoneargyle.com/event/lenten-service-5/
END:VEVENT
BEGIN:VEVENT
DTSTART;VALUE=DATE:20260405
DTEND;VALUE=DATE:20260406
DTSTAMP:20260420T010158
CREATED:20260222T134307Z
LAST-MODIFIED:20260222T134307Z
UID:1940-1775347200-1775433599@www.cornerstoneargyle.com
SUMMARY:Easter Sunday
DESCRIPTION:
URL:https://www.cornerstoneargyle.com/event/easter-sunday-2/
END:VEVENT
END:VCALENDAR