BEGIN:VCALENDAR
VERSION:2.0
PRODID:-//Cornerstone Lutheran Church - ECPv6.15.17.1//NONSGML v1.0//EN
CALSCALE:GREGORIAN
METHOD:PUBLISH
X-ORIGINAL-URL:https://www.cornerstoneargyle.com
X-WR-CALDESC:Events for Cornerstone Lutheran Church
REFRESH-INTERVAL;VALUE=DURATION:PT1H
X-Robots-Tag:noindex
X-PUBLISHED-TTL:PT1H
BEGIN:VTIMEZONE
TZID:America/Chicago
BEGIN:DAYLIGHT
TZOFFSETFROM:-0600
TZOFFSETTO:-0500
TZNAME:CDT
DTSTART:20240310T080000
END:DAYLIGHT
BEGIN:STANDARD
TZOFFSETFROM:-0500
TZOFFSETTO:-0600
TZNAME:CST
DTSTART:20241103T070000
END:STANDARD
BEGIN:DAYLIGHT
TZOFFSETFROM:-0600
TZOFFSETTO:-0500
TZNAME:CDT
DTSTART:20250309T080000
END:DAYLIGHT
BEGIN:STANDARD
TZOFFSETFROM:-0500
TZOFFSETTO:-0600
TZNAME:CST
DTSTART:20251102T070000
END:STANDARD
BEGIN:DAYLIGHT
TZOFFSETFROM:-0600
TZOFFSETTO:-0500
TZNAME:CDT
DTSTART:20260308T080000
END:DAYLIGHT
BEGIN:STANDARD
TZOFFSETFROM:-0500
TZOFFSETTO:-0600
TZNAME:CST
DTSTART:20261101T070000
END:STANDARD
BEGIN:DAYLIGHT
TZOFFSETFROM:-0600
TZOFFSETTO:-0500
TZNAME:CDT
DTSTART:20270314T080000
END:DAYLIGHT
BEGIN:STANDARD
TZOFFSETFROM:-0500
TZOFFSETTO:-0600
TZNAME:CST
DTSTART:20271107T070000
END:STANDARD
END:VTIMEZONE
BEGIN:VEVENT
DTSTART;TZID=America/Chicago:20251129T180000
DTEND;TZID=America/Chicago:20251129T200000
DTSTAMP:20260419T231920
CREATED:20251127T045451Z
LAST-MODIFIED:20251127T045451Z
UID:1916-1764439200-1764446400@www.cornerstoneargyle.com
SUMMARY:Advent by Candlelight - Cancelled
DESCRIPTION:Due to the impending weather\, we have made the decision to cancel this event.
URL:https://www.cornerstoneargyle.com/event/advent-by-candlelight-cancelled/
END:VEVENT
BEGIN:VEVENT
DTSTART;TZID=America/Chicago:20250907T090000
DTEND;TZID=America/Chicago:20251221T100000
DTSTAMP:20260419T231920
CREATED:20250627T145936Z
LAST-MODIFIED:20250627T145936Z
UID:1907-1757235600-1766311200@www.cornerstoneargyle.com
SUMMARY:Sunday School
DESCRIPTION:We have several groups that will meet on Sunday Morning: \nPreK-5th grade will meet in the nursery \n6th-8th grade will meet in Pastor Dave’s office \nThere will also be a study for adults\, who are interested\, from 9-9:40am
URL:https://www.cornerstoneargyle.com/event/sunday-school-4-2/
END:VEVENT
BEGIN:VEVENT
DTSTART;TZID=America/Chicago:20251130T100000
DTEND;TZID=America/Chicago:20251130T113000
DTSTAMP:20260419T231920
CREATED:20251129T233413Z
LAST-MODIFIED:20251129T233413Z
UID:1920-1764496800-1764502200@www.cornerstoneargyle.com
SUMMARY:Church Service - Cancelled due to weather
DESCRIPTION:
URL:https://www.cornerstoneargyle.com/event/church-service-cancelled-due-to-weather/
END:VEVENT
BEGIN:VEVENT
DTSTART;TZID=America/Chicago:20250907T090000
DTEND;TZID=America/Chicago:20251221T100000
DTSTAMP:20260419T231920
CREATED:20250627T145936Z
LAST-MODIFIED:20250627T145936Z
UID:1907-1757235600-1766311200@www.cornerstoneargyle.com
SUMMARY:Sunday School
DESCRIPTION:We have several groups that will meet on Sunday Morning: \nPreK-5th grade will meet in the nursery \n6th-8th grade will meet in Pastor Dave’s office \nThere will also be a study for adults\, who are interested\, from 9-9:40am
URL:https://www.cornerstoneargyle.com/event/sunday-school-4-2/
END:VEVENT
BEGIN:VEVENT
DTSTART;TZID=America/Chicago:20251207T100000
DTEND;TZID=America/Chicago:20251207T113000
DTSTAMP:20260419T231920
CREATED:20251129T234150Z
LAST-MODIFIED:20251129T234150Z
UID:1924-1765101600-1765107000@www.cornerstoneargyle.com
SUMMARY:Church Service
DESCRIPTION:
URL:https://www.cornerstoneargyle.com/event/church-service/
END:VEVENT
BEGIN:VEVENT
DTSTART;TZID=America/Chicago:20250907T090000
DTEND;TZID=America/Chicago:20251221T100000
DTSTAMP:20260419T231920
CREATED:20250627T145936Z
LAST-MODIFIED:20250627T145936Z
UID:1907-1757235600-1766311200@www.cornerstoneargyle.com
SUMMARY:Sunday School
DESCRIPTION:We have several groups that will meet on Sunday Morning: \nPreK-5th grade will meet in the nursery \n6th-8th grade will meet in Pastor Dave’s office \nThere will also be a study for adults\, who are interested\, from 9-9:40am
URL:https://www.cornerstoneargyle.com/event/sunday-school-4-2/
END:VEVENT
BEGIN:VEVENT
DTSTART;TZID=America/Chicago:20250907T090000
DTEND;TZID=America/Chicago:20251221T100000
DTSTAMP:20260419T231920
CREATED:20250627T145936Z
LAST-MODIFIED:20250627T145936Z
UID:1907-1757235600-1766311200@www.cornerstoneargyle.com
SUMMARY:Sunday School
DESCRIPTION:We have several groups that will meet on Sunday Morning: \nPreK-5th grade will meet in the nursery \n6th-8th grade will meet in Pastor Dave’s office \nThere will also be a study for adults\, who are interested\, from 9-9:40am
URL:https://www.cornerstoneargyle.com/event/sunday-school-4-2/
END:VEVENT
BEGIN:VEVENT
DTSTART;TZID=America/Chicago:20260218T180000
DTEND;TZID=America/Chicago:20260218T190000
DTSTAMP:20260419T231920
CREATED:20260222T133823Z
LAST-MODIFIED:20260222T133823Z
UID:1928-1771437600-1771441200@www.cornerstoneargyle.com
SUMMARY:Lenten Services
DESCRIPTION:6:00 pm services throughout Lent
URL:https://www.cornerstoneargyle.com/event/lenten-services/
END:VEVENT
BEGIN:VEVENT
DTSTART;TZID=America/Chicago:20260225T180000
DTEND;TZID=America/Chicago:20260225T190000
DTSTAMP:20260419T231920
CREATED:20260222T133925Z
LAST-MODIFIED:20260222T133925Z
UID:1930-1772042400-1772046000@www.cornerstoneargyle.com
SUMMARY:Lenten Services
DESCRIPTION:6:00 pm services throughout Lent
URL:https://www.cornerstoneargyle.com/event/lenten-services-2/
END:VEVENT
BEGIN:VEVENT
DTSTART;TZID=America/Chicago:20260304T180000
DTEND;TZID=America/Chicago:20260304T190000
DTSTAMP:20260419T231920
CREATED:20260222T134029Z
LAST-MODIFIED:20260222T134029Z
UID:1932-1772647200-1772650800@www.cornerstoneargyle.com
SUMMARY:Lenten Service
DESCRIPTION:6:00 pm services throughout Lent
URL:https://www.cornerstoneargyle.com/event/lenten-service-2/
END:VEVENT
BEGIN:VEVENT
DTSTART;TZID=America/Chicago:20260307T150000
DTEND;TZID=America/Chicago:20260307T170000
DTSTAMP:20260419T231920
CREATED:20260222T200737Z
LAST-MODIFIED:20260222T200737Z
UID:1942-1772895600-1772902800@www.cornerstoneargyle.com
SUMMARY:The Anchor For My Soul Spring Concert Tour
DESCRIPTION:Join us for the Free Lutheran Bible College Concert Choir spring tour. Saturday\, March 7 at 3:00 pm at Cornerstone Lutheran Church
URL:https://www.cornerstoneargyle.com/event/the-anchor-for-my-soul-spring-concert-tour/
END:VEVENT
BEGIN:VEVENT
DTSTART;TZID=America/Chicago:20260311T180000
DTEND;TZID=America/Chicago:20260311T190000
DTSTAMP:20260419T231920
CREATED:20260222T134104Z
LAST-MODIFIED:20260222T134104Z
UID:1934-1773252000-1773255600@www.cornerstoneargyle.com
SUMMARY:Lenten Service
DESCRIPTION:6:00 pm services throughout Lent
URL:https://www.cornerstoneargyle.com/event/lenten-service-3/
END:VEVENT
BEGIN:VEVENT
DTSTART;TZID=America/Chicago:20260318T180000
DTEND;TZID=America/Chicago:20260318T190000
DTSTAMP:20260419T231920
CREATED:20260222T134142Z
LAST-MODIFIED:20260222T134142Z
UID:1936-1773856800-1773860400@www.cornerstoneargyle.com
SUMMARY:Lenten Service
DESCRIPTION:6:00 pm services throughout Lent
URL:https://www.cornerstoneargyle.com/event/lenten-service-4/
END:VEVENT
BEGIN:VEVENT
DTSTART;TZID=America/Chicago:20260325T180000
DTEND;TZID=America/Chicago:20260325T190000
DTSTAMP:20260419T231920
CREATED:20260222T134225Z
LAST-MODIFIED:20260222T134225Z
UID:1938-1774461600-1774465200@www.cornerstoneargyle.com
SUMMARY:Lenten Service
DESCRIPTION:6:00 pm services throughout Lent
URL:https://www.cornerstoneargyle.com/event/lenten-service-5/
END:VEVENT
BEGIN:VEVENT
DTSTART;VALUE=DATE:20260405
DTEND;VALUE=DATE:20260406
DTSTAMP:20260419T231920
CREATED:20260222T134307Z
LAST-MODIFIED:20260222T134307Z
UID:1940-1775347200-1775433599@www.cornerstoneargyle.com
SUMMARY:Easter Sunday
DESCRIPTION:
URL:https://www.cornerstoneargyle.com/event/easter-sunday-2/
END:VEVENT
END:VCALENDAR