BEGIN:VCALENDAR
VERSION:2.0
PRODID:-//Cornerstone Lutheran Church - ECPv6.15.17.1//NONSGML v1.0//EN
CALSCALE:GREGORIAN
METHOD:PUBLISH
X-WR-CALNAME:Cornerstone Lutheran Church
X-ORIGINAL-URL:https://www.cornerstoneargyle.com
X-WR-CALDESC:Events for Cornerstone Lutheran Church
REFRESH-INTERVAL;VALUE=DURATION:PT1H
X-Robots-Tag:noindex
X-PUBLISHED-TTL:PT1H
BEGIN:VTIMEZONE
TZID:America/Chicago
BEGIN:DAYLIGHT
TZOFFSETFROM:-0600
TZOFFSETTO:-0500
TZNAME:CDT
DTSTART:20230312T080000
END:DAYLIGHT
BEGIN:STANDARD
TZOFFSETFROM:-0500
TZOFFSETTO:-0600
TZNAME:CST
DTSTART:20231105T070000
END:STANDARD
BEGIN:DAYLIGHT
TZOFFSETFROM:-0600
TZOFFSETTO:-0500
TZNAME:CDT
DTSTART:20240310T080000
END:DAYLIGHT
BEGIN:STANDARD
TZOFFSETFROM:-0500
TZOFFSETTO:-0600
TZNAME:CST
DTSTART:20241103T070000
END:STANDARD
BEGIN:DAYLIGHT
TZOFFSETFROM:-0600
TZOFFSETTO:-0500
TZNAME:CDT
DTSTART:20250309T080000
END:DAYLIGHT
BEGIN:STANDARD
TZOFFSETFROM:-0500
TZOFFSETTO:-0600
TZNAME:CST
DTSTART:20251102T070000
END:STANDARD
END:VTIMEZONE
BEGIN:VEVENT
DTSTART;TZID=America/Chicago:20240512T100000
DTEND;TZID=America/Chicago:20240512T113000
DTSTAMP:20260419T234129
CREATED:20240501T164134Z
LAST-MODIFIED:20240501T164235Z
UID:1704-1715508000-1715513400@www.cornerstoneargyle.com
SUMMARY:Worship
DESCRIPTION:
URL:https://www.cornerstoneargyle.com/event/worship-4/
END:VEVENT
BEGIN:VEVENT
DTSTART;TZID=America/Chicago:20240908T090000
DTEND;TZID=America/Chicago:20240908T100000
DTSTAMP:20260419T234129
CREATED:20240904T204355Z
LAST-MODIFIED:20240904T204355Z
UID:1761-1725786000-1725789600@www.cornerstoneargyle.com
SUMMARY:Sunday School
DESCRIPTION:We have several groups that will meet on Sunday Morning: \nPreK-5th grade will meet in the nursery \n6th-8th grade will meet in Pastor Dave’s office \nThere will also be a study for adults\, who are interested\, from 9-9:40am
URL:https://www.cornerstoneargyle.com/event/sunday-school-4/
END:VEVENT
BEGIN:VEVENT
DTSTART;TZID=America/Chicago:20240907T080000
DTEND;TZID=America/Chicago:20240907T090000
DTSTAMP:20260419T234129
CREATED:20240904T204915Z
LAST-MODIFIED:20240904T204915Z
UID:1767-1725696000-1725699600@www.cornerstoneargyle.com
SUMMARY:Prayer Time
DESCRIPTION:
URL:https://www.cornerstoneargyle.com/event/prayer-time-4/
END:VEVENT
BEGIN:VEVENT
DTSTART;TZID=America/Chicago:20240905T130000
DTEND;TZID=America/Chicago:20240905T140000
DTSTAMP:20260419T234129
CREATED:20240904T204708Z
LAST-MODIFIED:20240904T204806Z
UID:1764-1725541200-1725544800@www.cornerstoneargyle.com
SUMMARY:Women's Bible Study
DESCRIPTION:
URL:https://www.cornerstoneargyle.com/event/womens-bible-study-4/
END:VEVENT
BEGIN:VEVENT
DTSTART;TZID=America/Chicago:20240305T093000
DTEND;TZID=America/Chicago:20240305T103000
DTSTAMP:20260419T234129
CREATED:20240303T222744Z
LAST-MODIFIED:20240303T222744Z
UID:1603-1709631000-1709634600@www.cornerstoneargyle.com
SUMMARY:Tues Bible Study
DESCRIPTION:
URL:https://www.cornerstoneargyle.com/event/tues-bible-study/
END:VEVENT
BEGIN:VEVENT
DTSTART;TZID=America/Chicago:20241214T180000
DTEND;TZID=America/Chicago:20241214T200000
DTSTAMP:20260419T234129
CREATED:20241212T001523Z
LAST-MODIFIED:20241212T001523Z
UID:1854-1734199200-1734206400@www.cornerstoneargyle.com
SUMMARY:Drive-Thru Nativity
DESCRIPTION:FBC in Darlington is hosting the Drive-Thru Nativity again this year. Stop in for this beautiful display
URL:https://www.cornerstoneargyle.com/event/drive-thru-nativity/
END:VEVENT
BEGIN:VEVENT
DTSTART;TZID=America/Chicago:20240908T180000
DTEND;TZID=America/Chicago:20240908T190000
DTSTAMP:20260419T234129
CREATED:20240904T205234Z
LAST-MODIFIED:20240904T205234Z
UID:1770-1725818400-1725822000@www.cornerstoneargyle.com
SUMMARY:Bible Study
DESCRIPTION:Locations for this bible study group rotate each week. Please contact Pastor Dave for the latest location.
URL:https://www.cornerstoneargyle.com/event/bible-study-3/
END:VEVENT
BEGIN:VEVENT
DTSTART;TZID=America/Chicago:20241215T100000
DTEND;TZID=America/Chicago:20241215T113000
DTSTAMP:20260419T234129
CREATED:20241212T001245Z
LAST-MODIFIED:20241212T001245Z
UID:1852-1734256800-1734262200@www.cornerstoneargyle.com
SUMMARY:Children's Christmas Program
DESCRIPTION:All are invited to see our little lovers of Christ offer their Christmas gift to the congregation in the form of a Christmas program.
URL:https://www.cornerstoneargyle.com/event/childrens-christmas-program/
END:VEVENT
BEGIN:VEVENT
DTSTART;TZID=America/Chicago:20240512T100000
DTEND;TZID=America/Chicago:20240512T113000
DTSTAMP:20260419T234129
CREATED:20240501T164134Z
LAST-MODIFIED:20240501T164235Z
UID:1704-1715508000-1715513400@www.cornerstoneargyle.com
SUMMARY:Worship
DESCRIPTION:
URL:https://www.cornerstoneargyle.com/event/worship-4/
END:VEVENT
BEGIN:VEVENT
DTSTART;TZID=America/Chicago:20240908T090000
DTEND;TZID=America/Chicago:20240908T100000
DTSTAMP:20260419T234129
CREATED:20240904T204355Z
LAST-MODIFIED:20240904T204355Z
UID:1761-1725786000-1725789600@www.cornerstoneargyle.com
SUMMARY:Sunday School
DESCRIPTION:We have several groups that will meet on Sunday Morning: \nPreK-5th grade will meet in the nursery \n6th-8th grade will meet in Pastor Dave’s office \nThere will also be a study for adults\, who are interested\, from 9-9:40am
URL:https://www.cornerstoneargyle.com/event/sunday-school-4/
END:VEVENT
BEGIN:VEVENT
DTSTART;TZID=America/Chicago:20241214T180000
DTEND;TZID=America/Chicago:20241214T200000
DTSTAMP:20260419T234129
CREATED:20241212T001523Z
LAST-MODIFIED:20241212T001523Z
UID:1854-1734199200-1734206400@www.cornerstoneargyle.com
SUMMARY:Drive-Thru Nativity
DESCRIPTION:FBC in Darlington is hosting the Drive-Thru Nativity again this year. Stop in for this beautiful display
URL:https://www.cornerstoneargyle.com/event/drive-thru-nativity/
END:VEVENT
BEGIN:VEVENT
DTSTART;TZID=America/Chicago:20240907T080000
DTEND;TZID=America/Chicago:20240907T090000
DTSTAMP:20260419T234129
CREATED:20240904T204915Z
LAST-MODIFIED:20240904T204915Z
UID:1767-1725696000-1725699600@www.cornerstoneargyle.com
SUMMARY:Prayer Time
DESCRIPTION:
URL:https://www.cornerstoneargyle.com/event/prayer-time-4/
END:VEVENT
BEGIN:VEVENT
DTSTART;TZID=America/Chicago:20240905T130000
DTEND;TZID=America/Chicago:20240905T140000
DTSTAMP:20260419T234129
CREATED:20240904T204708Z
LAST-MODIFIED:20240904T204806Z
UID:1764-1725541200-1725544800@www.cornerstoneargyle.com
SUMMARY:Women's Bible Study
DESCRIPTION:
URL:https://www.cornerstoneargyle.com/event/womens-bible-study-4/
END:VEVENT
BEGIN:VEVENT
DTSTART;TZID=America/Chicago:20240305T093000
DTEND;TZID=America/Chicago:20240305T103000
DTSTAMP:20260419T234129
CREATED:20240303T222744Z
LAST-MODIFIED:20240303T222744Z
UID:1603-1709631000-1709634600@www.cornerstoneargyle.com
SUMMARY:Tues Bible Study
DESCRIPTION:
URL:https://www.cornerstoneargyle.com/event/tues-bible-study/
END:VEVENT
BEGIN:VEVENT
DTSTART;TZID=America/Chicago:20240908T180000
DTEND;TZID=America/Chicago:20240908T190000
DTSTAMP:20260419T234129
CREATED:20240904T205234Z
LAST-MODIFIED:20240904T205234Z
UID:1770-1725818400-1725822000@www.cornerstoneargyle.com
SUMMARY:Bible Study
DESCRIPTION:Locations for this bible study group rotate each week. Please contact Pastor Dave for the latest location.
URL:https://www.cornerstoneargyle.com/event/bible-study-3/
END:VEVENT
BEGIN:VEVENT
DTSTART;TZID=America/Chicago:20240512T100000
DTEND;TZID=America/Chicago:20240512T113000
DTSTAMP:20260419T234129
CREATED:20240501T164134Z
LAST-MODIFIED:20240501T164235Z
UID:1704-1715508000-1715513400@www.cornerstoneargyle.com
SUMMARY:Worship
DESCRIPTION:
URL:https://www.cornerstoneargyle.com/event/worship-4/
END:VEVENT
BEGIN:VEVENT
DTSTART;TZID=America/Chicago:20240908T090000
DTEND;TZID=America/Chicago:20240908T100000
DTSTAMP:20260419T234129
CREATED:20240904T204355Z
LAST-MODIFIED:20240904T204355Z
UID:1761-1725786000-1725789600@www.cornerstoneargyle.com
SUMMARY:Sunday School
DESCRIPTION:We have several groups that will meet on Sunday Morning: \nPreK-5th grade will meet in the nursery \n6th-8th grade will meet in Pastor Dave’s office \nThere will also be a study for adults\, who are interested\, from 9-9:40am
URL:https://www.cornerstoneargyle.com/event/sunday-school-4/
END:VEVENT
BEGIN:VEVENT
DTSTART;TZID=America/Chicago:20240907T080000
DTEND;TZID=America/Chicago:20240907T090000
DTSTAMP:20260419T234129
CREATED:20240904T204915Z
LAST-MODIFIED:20240904T204915Z
UID:1767-1725696000-1725699600@www.cornerstoneargyle.com
SUMMARY:Prayer Time
DESCRIPTION:
URL:https://www.cornerstoneargyle.com/event/prayer-time-4/
END:VEVENT
BEGIN:VEVENT
DTSTART;TZID=America/Chicago:20240905T130000
DTEND;TZID=America/Chicago:20240905T140000
DTSTAMP:20260419T234129
CREATED:20240904T204708Z
LAST-MODIFIED:20240904T204806Z
UID:1764-1725541200-1725544800@www.cornerstoneargyle.com
SUMMARY:Women's Bible Study
DESCRIPTION:
URL:https://www.cornerstoneargyle.com/event/womens-bible-study-4/
END:VEVENT
BEGIN:VEVENT
DTSTART;TZID=America/Chicago:20240305T093000
DTEND;TZID=America/Chicago:20240305T103000
DTSTAMP:20260419T234129
CREATED:20240303T222744Z
LAST-MODIFIED:20240303T222744Z
UID:1603-1709631000-1709634600@www.cornerstoneargyle.com
SUMMARY:Tues Bible Study
DESCRIPTION:
URL:https://www.cornerstoneargyle.com/event/tues-bible-study/
END:VEVENT
BEGIN:VEVENT
DTSTART;TZID=America/Chicago:20240908T180000
DTEND;TZID=America/Chicago:20240908T190000
DTSTAMP:20260419T234129
CREATED:20240904T205234Z
LAST-MODIFIED:20240904T205234Z
UID:1770-1725818400-1725822000@www.cornerstoneargyle.com
SUMMARY:Bible Study
DESCRIPTION:Locations for this bible study group rotate each week. Please contact Pastor Dave for the latest location.
URL:https://www.cornerstoneargyle.com/event/bible-study-3/
END:VEVENT
BEGIN:VEVENT
DTSTART;TZID=America/Chicago:20240512T100000
DTEND;TZID=America/Chicago:20240512T113000
DTSTAMP:20260419T234129
CREATED:20240501T164134Z
LAST-MODIFIED:20240501T164235Z
UID:1704-1715508000-1715513400@www.cornerstoneargyle.com
SUMMARY:Worship
DESCRIPTION:
URL:https://www.cornerstoneargyle.com/event/worship-4/
END:VEVENT
BEGIN:VEVENT
DTSTART;TZID=America/Chicago:20240908T090000
DTEND;TZID=America/Chicago:20240908T100000
DTSTAMP:20260419T234129
CREATED:20240904T204355Z
LAST-MODIFIED:20240904T204355Z
UID:1761-1725786000-1725789600@www.cornerstoneargyle.com
SUMMARY:Sunday School
DESCRIPTION:We have several groups that will meet on Sunday Morning: \nPreK-5th grade will meet in the nursery \n6th-8th grade will meet in Pastor Dave’s office \nThere will also be a study for adults\, who are interested\, from 9-9:40am
URL:https://www.cornerstoneargyle.com/event/sunday-school-4/
END:VEVENT
BEGIN:VEVENT
DTSTART;TZID=America/Chicago:20240907T080000
DTEND;TZID=America/Chicago:20240907T090000
DTSTAMP:20260419T234129
CREATED:20240904T204915Z
LAST-MODIFIED:20240904T204915Z
UID:1767-1725696000-1725699600@www.cornerstoneargyle.com
SUMMARY:Prayer Time
DESCRIPTION:
URL:https://www.cornerstoneargyle.com/event/prayer-time-4/
END:VEVENT
BEGIN:VEVENT
DTSTART;TZID=America/Chicago:20240905T130000
DTEND;TZID=America/Chicago:20240905T140000
DTSTAMP:20260419T234129
CREATED:20240904T204708Z
LAST-MODIFIED:20240904T204806Z
UID:1764-1725541200-1725544800@www.cornerstoneargyle.com
SUMMARY:Women's Bible Study
DESCRIPTION:
URL:https://www.cornerstoneargyle.com/event/womens-bible-study-4/
END:VEVENT
BEGIN:VEVENT
DTSTART;VALUE=DATE:20241128
DTEND;VALUE=DATE:20241129
DTSTAMP:20260419T234129
CREATED:20241031T181524Z
LAST-MODIFIED:20241031T181524Z
UID:1837-1732752000-1732838399@www.cornerstoneargyle.com
SUMMARY:Thanksgiving
DESCRIPTION:
URL:https://www.cornerstoneargyle.com/event/thanksgiving/
END:VEVENT
BEGIN:VEVENT
DTSTART;TZID=America/Chicago:20240305T093000
DTEND;TZID=America/Chicago:20240305T103000
DTSTAMP:20260419T234129
CREATED:20240303T222744Z
LAST-MODIFIED:20240303T222744Z
UID:1603-1709631000-1709634600@www.cornerstoneargyle.com
SUMMARY:Tues Bible Study
DESCRIPTION:
URL:https://www.cornerstoneargyle.com/event/tues-bible-study/
END:VEVENT
BEGIN:VEVENT
DTSTART;TZID=America/Chicago:20240908T180000
DTEND;TZID=America/Chicago:20240908T190000
DTSTAMP:20260419T234129
CREATED:20240904T205234Z
LAST-MODIFIED:20240904T205234Z
UID:1770-1725818400-1725822000@www.cornerstoneargyle.com
SUMMARY:Bible Study
DESCRIPTION:Locations for this bible study group rotate each week. Please contact Pastor Dave for the latest location.
URL:https://www.cornerstoneargyle.com/event/bible-study-3/
END:VEVENT
BEGIN:VEVENT
DTSTART;TZID=America/Chicago:20240512T100000
DTEND;TZID=America/Chicago:20240512T113000
DTSTAMP:20260419T234129
CREATED:20240501T164134Z
LAST-MODIFIED:20240501T164235Z
UID:1704-1715508000-1715513400@www.cornerstoneargyle.com
SUMMARY:Worship
DESCRIPTION:
URL:https://www.cornerstoneargyle.com/event/worship-4/
END:VEVENT
BEGIN:VEVENT
DTSTART;TZID=America/Chicago:20240908T090000
DTEND;TZID=America/Chicago:20240908T100000
DTSTAMP:20260419T234129
CREATED:20240904T204355Z
LAST-MODIFIED:20240904T204355Z
UID:1761-1725786000-1725789600@www.cornerstoneargyle.com
SUMMARY:Sunday School
DESCRIPTION:We have several groups that will meet on Sunday Morning: \nPreK-5th grade will meet in the nursery \n6th-8th grade will meet in Pastor Dave’s office \nThere will also be a study for adults\, who are interested\, from 9-9:40am
URL:https://www.cornerstoneargyle.com/event/sunday-school-4/
END:VEVENT
END:VCALENDAR